BEGIN:VCALENDAR
VERSION:2.0
PRODID:-//Squarespace Inc/Squarespace 6//v6//EN
BEGIN:VEVENT
UID:5c06ea8d88251bfc19f72e2c@squarespace.com
DTSTAMP:20181204T205921Z
DTSTART:20190102T010000Z
DTEND:20190131T043000Z
SUMMARY:2 PM Departure
END:VEVENT
END:VCALENDAR
