BEGIN:VCALENDAR
VERSION:2.0
PRODID:-//Squarespace Inc/Squarespace 6//v6//EN
BEGIN:VEVENT
UID:5b0f05c0352f53bd7cfa0cc0@squarespace.com
DTSTAMP:20180530T201258Z
DTSTART:20180606T220000Z
DTEND:20180607T010000Z
SUMMARY:10AM Departure
END:VEVENT
END:VCALENDAR
