BEGIN:VCALENDAR
VERSION:2.0
PRODID:-//Squarespace Inc/Squarespace 6//v6//EN
BEGIN:VEVENT
UID:5b0f058e352f53bd7cfa0078@squarespace.com
DTSTAMP:20180530T201213Z
DTSTART:20180601T220000Z
DTEND:20180602T010000Z
SUMMARY:10AM Departure
END:VEVENT
END:VCALENDAR
